Package: methodical Version: 1.4.0 Command: /Library/Frameworks/R.framework/Resources/bin/R CMD INSTALL methodical StartedAt: 2025-10-02 17:24:49 -0400 (Thu, 02 Oct 2025) EndedAt: 2025-10-02 17:25:39 -0400 (Thu, 02 Oct 2025) EllapsedTime: 49.9 seconds RetCode: 0 Status: OK