Package: methodical Version: 1.4.0 Command: /Library/Frameworks/R.framework/Resources/bin/R CMD build --keep-empty-dirs --no-resave-data methodical StartedAt: 2025-10-03 03:49:46 -0400 (Fri, 03 Oct 2025) EndedAt: 2025-10-03 04:08:02 -0400 (Fri, 03 Oct 2025) EllapsedTime: 1096.0 seconds RetCode: 0 Status: OK PackageFile: methodical_1.4.0.tar.gz PackageFileSize: 4.369 MiB