Package: methodical Version: 1.4.0 Command: rm -rf methodical.buildbin-libdir && mkdir methodical.buildbin-libdir && /Users/biocbuild/BBS/utils/build-universal.sh methodical_1.4.0.tar.gz /Library/Frameworks/R.framework/Resources/bin/R methodical.buildbin-libdir StartedAt: 2025-10-04 18:43:41 -0400 (Sat, 04 Oct 2025) EndedAt: 2025-10-04 18:44:21 -0400 (Sat, 04 Oct 2025) EllapsedTime: 40.8 seconds RetCode: 0 Status: OK PackageFile: methodical_1.4.0.tgz PackageFileSize: 4.533 MiB