Package: methimpute Version: 1.32.0 Command: /home/biocbuild/bbs-3.22-bioc/R/bin/R CMD build --keep-empty-dirs --no-resave-data --md5 methimpute StartedAt: 2025-11-13 18:37:56 -0500 (Thu, 13 Nov 2025) EndedAt: 2025-11-13 18:40:00 -0500 (Thu, 13 Nov 2025) EllapsedTime: 124.1 seconds RetCode: 0 Status: OK PackageFile: methimpute_1.32.0.tar.gz PackageFileSize: 1.271 MiB