Package: methimpute Version: 1.32.0 Command: /Library/Frameworks/R.framework/Resources/bin/R CMD INSTALL methimpute StartedAt: 2025-11-10 15:10:31 -0500 (Mon, 10 Nov 2025) EndedAt: 2025-11-10 15:10:44 -0500 (Mon, 10 Nov 2025) EllapsedTime: 13.5 seconds RetCode: 0 Status: OK