Package: methInheritSim Version: 1.32.0 Command: /home/biocbuild/R/R/bin/R CMD check --install=check:methInheritSim.install-out.txt --library=/home/biocbuild/R/R/site-library --no-vignettes --timings methInheritSim_1.32.0.tar.gz StartedAt: 2025-11-21 12:38:31 -0000 (Fri, 21 Nov 2025) EndedAt: 2025-11-21 12:45:18 -0000 (Fri, 21 Nov 2025) EllapsedTime: 407.3 seconds RetCode: 0 Status: OK CheckDir: methInheritSim.Rcheck Warnings: 0