Package: methInheritSim Version: 1.32.0 Command: /home/biocbuild/R/R/bin/R CMD build --keep-empty-dirs --no-resave-data methInheritSim StartedAt: 2025-11-11 03:03:50 -0000 (Tue, 11 Nov 2025) EndedAt: 2025-11-11 03:05:20 -0000 (Tue, 11 Nov 2025) EllapsedTime: 90.0 seconds RetCode: 0 Status: OK PackageFile: methInheritSim_1.32.0.tar.gz PackageFileSize: 1.141 MiB