Package: methInheritSim Version: 1.32.0 Command: /home/biocbuild/bbs-3.22-bioc/R/bin/R CMD check --install=check:methInheritSim.install-out.txt --library=/home/biocbuild/bbs-3.22-bioc/R/site-library --timings methInheritSim_1.32.0.tar.gz StartedAt: 2025-11-12 01:18:49 -0500 (Wed, 12 Nov 2025) EndedAt: 2025-11-12 01:24:31 -0500 (Wed, 12 Nov 2025) EllapsedTime: 342.3 seconds RetCode: 0 Status: OK CheckDir: methInheritSim.Rcheck Warnings: 0