Package: methInheritSim Version: 1.32.0 Command: /home/biocbuild/bbs-3.22-bioc/R/bin/R CMD build --keep-empty-dirs --no-resave-data --md5 methInheritSim StartedAt: 2025-11-11 18:39:55 -0500 (Tue, 11 Nov 2025) EndedAt: 2025-11-11 18:41:03 -0500 (Tue, 11 Nov 2025) EllapsedTime: 68.0 seconds RetCode: 0 Status: OK PackageFile: methInheritSim_1.32.0.tar.gz PackageFileSize: 1.119 MiB