Package: metaseqR2 Version: 1.22.0 Command: /home/biocbuild/bbs-3.22-bioc/R/bin/R CMD check --install=check:metaseqR2.install-out.txt --library=/home/biocbuild/bbs-3.22-bioc/R/site-library --timings metaseqR2_1.22.0.tar.gz StartedAt: 2025-11-14 01:22:25 -0500 (Fri, 14 Nov 2025) EndedAt: 2025-11-14 01:35:59 -0500 (Fri, 14 Nov 2025) EllapsedTime: 813.7 seconds RetCode: 0 Status: OK CheckDir: metaseqR2.Rcheck Warnings: 0