Package: metaseqR2 Version: 1.22.0 Command: /home/biocbuild/bbs-3.22-bioc/R/bin/R CMD build --keep-empty-dirs --no-resave-data --md5 metaseqR2 StartedAt: 2025-11-11 18:39:50 -0500 (Tue, 11 Nov 2025) EndedAt: 2025-11-11 18:47:07 -0500 (Tue, 11 Nov 2025) EllapsedTime: 437.3 seconds RetCode: 1 Status: ERROR PackageFile: None PackageFileSize: NA