Package: metaseqR2 Version: 1.22.0 Command: /Library/Frameworks/R.framework/Resources/bin/R CMD INSTALL metaseqR2 StartedAt: 2025-11-03 15:48:48 -0500 (Mon, 03 Nov 2025) EndedAt: 2025-11-03 15:50:34 -0500 (Mon, 03 Nov 2025) EllapsedTime: 105.4 seconds RetCode: 0 Status: OK