Package: metaseqR2 Version: 1.22.0 Command: /Library/Frameworks/R.framework/Resources/bin/R CMD build --keep-empty-dirs --no-resave-data metaseqR2 StartedAt: 2025-11-03 17:40:36 -0500 (Mon, 03 Nov 2025) EndedAt: 2025-11-03 17:47:24 -0500 (Mon, 03 Nov 2025) EllapsedTime: 407.7 seconds RetCode: 0 Status: OK PackageFile: metaseqR2_1.22.0.tar.gz PackageFileSize: 2.678 MiB