Package: metaseqR2 Version: 1.22.0 Command: rm -rf metaseqR2.buildbin-libdir && mkdir metaseqR2.buildbin-libdir && /Users/biocbuild/BBS/utils/build-universal.sh metaseqR2_1.22.0.tar.gz /Library/Frameworks/R.framework/Resources/bin/R metaseqR2.buildbin-libdir StartedAt: 2025-11-04 01:48:59 -0500 (Tue, 04 Nov 2025) EndedAt: 2025-11-04 01:50:53 -0500 (Tue, 04 Nov 2025) EllapsedTime: 114.0 seconds RetCode: 0 Status: OK PackageFile: metaseqR2_1.22.0.tgz PackageFileSize: 4.51 MiB