Package: metaseqR2 Version: 1.20.0 Command: /home/biocbuild/R/R/bin/R CMD INSTALL metaseqR2 StartedAt: 2025-10-13 21:10:03 -0000 (Mon, 13 Oct 2025) EndedAt: 2025-10-13 21:11:52 -0000 (Mon, 13 Oct 2025) EllapsedTime: 109.0 seconds RetCode: 0 Status: OK