Package: metaseqR2 Version: 1.20.0 Command: /home/biocbuild/R/R/bin/R CMD build --keep-empty-dirs --no-resave-data metaseqR2 StartedAt: 2025-10-14 02:16:57 -0000 (Tue, 14 Oct 2025) EndedAt: 2025-10-14 02:28:42 -0000 (Tue, 14 Oct 2025) EllapsedTime: 705.2 seconds RetCode: 1 Status: ERROR PackageFile: None PackageFileSize: NA