Package: metaseqR2 Version: 1.20.0 Command: rm -rf metaseqR2.buildbin-libdir && mkdir metaseqR2.buildbin-libdir && /Users/biocbuild/BBS/utils/build-universal.sh metaseqR2_1.20.0.tar.gz /Library/Frameworks/R.framework/Resources/bin/R metaseqR2.buildbin-libdir StartedAt: 2025-04-21 22:41:26 -0400 (Mon, 21 Apr 2025) EndedAt: 2025-04-21 22:41:59 -0400 (Mon, 21 Apr 2025) EllapsedTime: 32.6 seconds RetCode: 0 Status: OK PackageFile: metaseqR2_1.20.0.tgz PackageFileSize: 4.521 MiB