Package: metapone Version: 1.16.0 Command: /home/biocbuild/bbs-3.22-bioc/R/bin/R CMD build --keep-empty-dirs --no-resave-data --md5 metapone StartedAt: 2025-11-11 18:39:37 -0500 (Tue, 11 Nov 2025) EndedAt: 2025-11-11 18:49:03 -0500 (Tue, 11 Nov 2025) EllapsedTime: 566.4 seconds RetCode: 0 Status: OK PackageFile: metapone_1.16.0.tar.gz PackageFileSize: 3.744 MiB