Package: metapod Version: 1.18.0 Command: /home/biocbuild/bbs-3.22-bioc/R/bin/R CMD INSTALL metapod StartedAt: 2025-11-03 15:02:13 -0500 (Mon, 03 Nov 2025) EndedAt: 2025-11-03 15:02:36 -0500 (Mon, 03 Nov 2025) EllapsedTime: 23.0 seconds RetCode: 0 Status: OK