Package: metapod Version: 1.18.0 Command: /home/biocbuild/bbs-3.22-bioc/R/bin/R CMD build --keep-empty-dirs --no-resave-data --md5 metapod StartedAt: 2025-11-03 18:35:43 -0500 (Mon, 03 Nov 2025) EndedAt: 2025-11-03 18:36:08 -0500 (Mon, 03 Nov 2025) EllapsedTime: 25.0 seconds RetCode: 0 Status: OK PackageFile: metapod_1.18.0.tar.gz PackageFileSize: 326.1 KiB