Package: metahdep Version: 1.68.0 Command: /home/biocbuild/bbs-3.22-bioc/R/bin/R CMD INSTALL metahdep StartedAt: 2025-11-11 15:06:29 -0500 (Tue, 11 Nov 2025) EndedAt: 2025-11-11 15:06:33 -0500 (Tue, 11 Nov 2025) EllapsedTime: 3.8 seconds RetCode: 0 Status: OK