Package: metahdep Version: 1.68.0 Command: /home/biocbuild/bbs-3.22-bioc/R/bin/R CMD build --keep-empty-dirs --no-resave-data --md5 metahdep StartedAt: 2025-11-11 18:39:13 -0500 (Tue, 11 Nov 2025) EndedAt: 2025-11-11 18:39:21 -0500 (Tue, 11 Nov 2025) EllapsedTime: 8.0 seconds RetCode: 0 Status: OK PackageFile: metahdep_1.68.0.tar.gz PackageFileSize: 551.8 KiB