Package: metahdep Version: 1.68.0 Command: /Library/Frameworks/R.framework/Resources/bin/R CMD INSTALL metahdep StartedAt: 2025-11-10 15:01:25 -0500 (Mon, 10 Nov 2025) EndedAt: 2025-11-10 15:01:27 -0500 (Mon, 10 Nov 2025) EllapsedTime: 1.9 seconds RetCode: 0 Status: OK