Package: metahdep Version: 1.68.0 Command: /Library/Frameworks/R.framework/Resources/bin/R CMD build --keep-empty-dirs --no-resave-data metahdep StartedAt: 2025-11-10 16:56:30 -0500 (Mon, 10 Nov 2025) EndedAt: 2025-11-10 16:56:35 -0500 (Mon, 10 Nov 2025) EllapsedTime: 5.1 seconds RetCode: 0 Status: OK PackageFile: metahdep_1.68.0.tar.gz PackageFileSize: 551.1 KiB