Package: metahdep Version: 1.68.0 Command: rm -rf metahdep.buildbin-libdir && mkdir metahdep.buildbin-libdir && /Users/biocbuild/BBS/utils/build-universal.sh metahdep_1.68.0.tar.gz /Library/Frameworks/R.framework/Resources/bin/R metahdep.buildbin-libdir StartedAt: 2025-11-10 23:26:09 -0500 (Mon, 10 Nov 2025) EndedAt: 2025-11-10 23:26:12 -0500 (Mon, 10 Nov 2025) EllapsedTime: 3.1 seconds RetCode: 0 Status: OK PackageFile: metahdep_1.68.0.tgz PackageFileSize: 651.3 KiB