Package: metagenomeSeq Version: 1.52.0 Maintainer: Joseph N. Paulson MaintainerEmail: josephpaulson at gmail.com git_url: https://git.bioconductor.org/packages/metagenomeSeq git_branch: RELEASE_3_22 git_last_commit: 4135a42 git_last_commit_date: 2025-10-29 10:14:26 -0500 (Wed, 29 Oct 2025)