Back to Build/check report for BioC 3.22:   simplified   long
ABCDEFGHIJKL[M]NOPQRSTUVWXYZ

This page was generated on 2025-11-13 11:55 -0500 (Thu, 13 Nov 2025).

HostnameOSArch (*)R versionInstalled pkgs
taishanLinux (openEuler 24.03 LTS)aarch644.5.0 (2025-04-11) -- "How About a Twenty-Six" 4668
Click on any hostname to see more info about the system (e.g. compilers)      (*) as reported by 'uname -p', except on Windows and Mac OS X

All results for package metagenomeSeq


To the developers/maintainers of the metagenomeSeq package:
- Allow up to 24 hours (and sometimes 48 hours) for your latest push to git@git.bioconductor.org:packages/metagenomeSeq.git to reflect on this report. See Troubleshooting Build Report for more information.
- Use the following Renviron settings to reproduce errors and warnings.
- If 'R CMD check' started to fail recently on the Linux builder(s) over a missing dependency, add the missing dependency to 'Suggests:' in your DESCRIPTION file. See Renviron.bioc for more information.

raw results

Package 1249/2361HostnameOS / ArchINSTALLBUILDCHECKBUILD BIN
metagenomeSeq 1.52.0  (landing page)
Joseph N. Paulson
Snapshot Date: 2025-11-12 13:45 -0500 (Wed, 12 Nov 2025)
git_url: https://git.bioconductor.org/packages/metagenomeSeq
git_branch: RELEASE_3_22
git_last_commit: 4135a42
git_last_commit_date: 2025-10-29 10:14:26 -0500 (Wed, 29 Oct 2025)
taishanLinux (openEuler 24.03 LTS) / aarch64  OK    OK    OK  



Results for Bioconductor software packages that depend directly on package metagenomeSeq

QUICK STATSOS / ArchINSTALLBUILDCHECKBUILD BIN
taishanLinux (openEuler 24.03 LTS) / aarch64
005
014
0103
Package 1/5HostnameOS / ArchINSTALLBUILDCHECKBUILD BIN
benchdamic 1.16.0  (landing page)
Matteo Calgaro
git_last_commit: fcdab2a
git_last_commit_date: 2025-10-29 11:13:16 -0500
taishanLinux (openEuler 24.03 LTS) / aarch64  OK    OK    ERROR  
Package 2/5HostnameOS / ArchINSTALLBUILDCHECKBUILD BIN
Maaslin2 1.24.0  (landing page)
Lauren McIver
git_last_commit: cbf23d4
git_last_commit_date: 2025-10-29 10:53:16 -0500
taishanLinux (openEuler 24.03 LTS) / aarch64  OK    ERROR  skipped
Package 3/5HostnameOS / ArchINSTALLBUILDCHECKBUILD BIN
mbQTL 1.10.0  (landing page)
Mercedeh Movassagh
git_last_commit: 596996d
git_last_commit_date: 2025-10-29 11:20:58 -0500
taishanLinux (openEuler 24.03 LTS) / aarch64  OK    OK    OK  
Package 4/5HostnameOS / ArchINSTALLBUILDCHECKBUILD BIN
microbiomeDASim 1.24.0  (landing page)
Justin Williams
git_last_commit: 95a20d9
git_last_commit_date: 2025-10-29 10:54:08 -0500
taishanLinux (openEuler 24.03 LTS) / aarch64  OK    OK    OK  
Package 5/5HostnameOS / ArchINSTALLBUILDCHECKBUILD BIN
microbiomeExplorer 1.20.0  (landing page)
Janina Reeder
git_last_commit: 307275f
git_last_commit_date: 2025-10-29 11:03:17 -0500
taishanLinux (openEuler 24.03 LTS) / aarch64  OK    OK    OK