Package: metabomxtr Version: 1.44.0 Command: /home/biocbuild/R/R/bin/R CMD INSTALL metabomxtr StartedAt: 2025-11-10 21:17:55 -0000 (Mon, 10 Nov 2025) EndedAt: 2025-11-10 21:18:11 -0000 (Mon, 10 Nov 2025) EllapsedTime: 16.5 seconds RetCode: 0 Status: OK