Package: metabomxtr Version: 1.44.0 Command: /home/biocbuild/R/R/bin/R CMD build --keep-empty-dirs --no-resave-data metabomxtr StartedAt: 2025-11-11 03:01:15 -0000 (Tue, 11 Nov 2025) EndedAt: 2025-11-11 03:01:53 -0000 (Tue, 11 Nov 2025) EllapsedTime: 38.0 seconds RetCode: 0 Status: OK PackageFile: metabomxtr_1.44.0.tar.gz PackageFileSize: 545.3 KiB