Package: metabomxtr Version: 1.44.0 Command: /home/biocbuild/bbs-3.22-bioc/R/bin/R CMD check --install=check:metabomxtr.install-out.txt --library=/home/biocbuild/bbs-3.22-bioc/R/site-library --timings metabomxtr_1.44.0.tar.gz StartedAt: 2025-11-12 01:16:38 -0500 (Wed, 12 Nov 2025) EndedAt: 2025-11-12 01:18:22 -0500 (Wed, 12 Nov 2025) EllapsedTime: 104.1 seconds RetCode: 0 Status: OK CheckDir: metabomxtr.Rcheck Warnings: 0