Package: metabomxtr Version: 1.42.0 Command: /Library/Frameworks/R.framework/Resources/bin/R CMD INSTALL metabomxtr StartedAt: 2025-10-09 15:19:40 -0400 (Thu, 09 Oct 2025) EndedAt: 2025-10-09 15:20:04 -0400 (Thu, 09 Oct 2025) EllapsedTime: 23.2 seconds RetCode: 0 Status: OK