Package: metabomxtr Version: 1.42.0 Command: rm -rf metabomxtr.buildbin-libdir && mkdir metabomxtr.buildbin-libdir && /Users/biocbuild/BBS/utils/build-universal.sh metabomxtr_1.42.0.tar.gz /Library/Frameworks/R.framework/Resources/bin/R metabomxtr.buildbin-libdir StartedAt: 2025-10-10 13:58:44 -0400 (Fri, 10 Oct 2025) EndedAt: 2025-10-10 13:59:28 -0400 (Fri, 10 Oct 2025) EllapsedTime: 43.7 seconds RetCode: 0 Status: OK PackageFile: metabomxtr_1.42.0.tgz PackageFileSize: 648.7 KiB