Package: metabolomicsWorkbenchR Version: 1.20.0 Command: /home/biocbuild/R/R/bin/R CMD INSTALL metabolomicsWorkbenchR StartedAt: 2025-11-13 21:40:30 -0000 (Thu, 13 Nov 2025) EndedAt: 2025-11-13 21:41:07 -0000 (Thu, 13 Nov 2025) EllapsedTime: 37.1 seconds RetCode: 0 Status: OK