Package: metabolomicsWorkbenchR Version: 1.20.0 Command: /home/biocbuild/bbs-3.22-bioc/R/bin/R CMD build --keep-empty-dirs --no-resave-data --md5 metabolomicsWorkbenchR StartedAt: 2025-11-11 18:38:27 -0500 (Tue, 11 Nov 2025) EndedAt: 2025-11-11 18:39:16 -0500 (Tue, 11 Nov 2025) EllapsedTime: 49.0 seconds RetCode: 0 Status: OK PackageFile: metabolomicsWorkbenchR_1.20.0.tar.gz PackageFileSize: 2.396 MiB