Package: metabolomicsWorkbenchR Version: 1.18.0 Command: /home/biocbuild/bbs-3.21-bioc/R/bin/R CMD INSTALL metabolomicsWorkbenchR StartedAt: 2025-10-08 15:31:54 -0400 (Wed, 08 Oct 2025) EndedAt: 2025-10-08 15:32:22 -0400 (Wed, 08 Oct 2025) EllapsedTime: 27.9 seconds RetCode: 0 Status: OK