Package: metabolomicsWorkbenchR Version: 1.18.0 Command: /home/biocbuild/bbs-3.21-bioc/R/bin/R CMD build --keep-empty-dirs --no-resave-data metabolomicsWorkbenchR StartedAt: 2025-10-08 18:22:57 -0400 (Wed, 08 Oct 2025) EndedAt: 2025-10-08 18:23:45 -0400 (Wed, 08 Oct 2025) EllapsedTime: 48.0 seconds RetCode: 0 Status: OK PackageFile: metabolomicsWorkbenchR_1.18.0.tar.gz PackageFileSize: 2.394 MiB