Package: metabolomicsWorkbenchR Version: 1.18.0 Command: /Library/Frameworks/R.framework/Resources/bin/R CMD build --keep-empty-dirs --no-resave-data metabolomicsWorkbenchR StartedAt: 2025-10-07 03:49:12 -0400 (Tue, 07 Oct 2025) EndedAt: 2025-10-07 03:50:20 -0400 (Tue, 07 Oct 2025) EllapsedTime: 67.9 seconds RetCode: 0 Status: OK PackageFile: metabolomicsWorkbenchR_1.18.0.tar.gz PackageFileSize: 2.398 MiB