Package: metabolomicsWorkbenchR Version: 1.18.0 Command: rm -rf metabolomicsWorkbenchR.buildbin-libdir && mkdir metabolomicsWorkbenchR.buildbin-libdir && /Users/biocbuild/BBS/utils/build-universal.sh metabolomicsWorkbenchR_1.18.0.tar.gz /Library/Frameworks/R.framework/Resources/bin/R metabolomicsWorkbenchR.buildbin-libdir StartedAt: 2025-10-08 21:38:55 -0400 (Wed, 08 Oct 2025) EndedAt: 2025-10-08 21:39:41 -0400 (Wed, 08 Oct 2025) EllapsedTime: 45.2 seconds RetCode: 0 Status: OK PackageFile: metabolomicsWorkbenchR_1.18.0.tgz PackageFileSize: 2.373 MiB