Package: metabolomicsWorkbenchR Version: 1.20.0 Maintainer: Gavin Rhys Lloyd MaintainerEmail: g.r.lloyd at bham.ac.uk git_url: https://git.bioconductor.org/packages/metabolomicsWorkbenchR git_branch: RELEASE_3_22 git_last_commit: 34776b7 git_last_commit_date: 2025-10-29 11:01:47 -0400 (Wed, 29 Oct 2025)