Package: metabinR Version: 1.12.0 Command: /home/biocbuild/bbs-3.22-bioc/R/bin/R CMD INSTALL metabinR StartedAt: 2025-11-11 15:07:27 -0500 (Tue, 11 Nov 2025) EndedAt: 2025-11-11 15:07:46 -0500 (Tue, 11 Nov 2025) EllapsedTime: 19.3 seconds RetCode: 0 Status: OK