Package: metabinR Version: 1.10.0 Command: /Library/Frameworks/R.framework/Resources/bin/R CMD build --keep-empty-dirs --no-resave-data metabinR StartedAt: 2025-04-21 16:51:32 -0400 (Mon, 21 Apr 2025) EndedAt: 2025-04-21 16:51:52 -0400 (Mon, 21 Apr 2025) EllapsedTime: 20.2 seconds RetCode: 0 Status: OK PackageFile: metabinR_1.10.0.tar.gz PackageFileSize: 4.39 MiB