Package: metabCombiner Version: 1.20.0 Command: /home/biocbuild/R/R/bin/R CMD INSTALL metabCombiner StartedAt: 2025-11-13 21:18:14 -0000 (Thu, 13 Nov 2025) EndedAt: 2025-11-13 21:18:43 -0000 (Thu, 13 Nov 2025) EllapsedTime: 28.3 seconds RetCode: 0 Status: OK