Package: metabCombiner Version: 1.20.0 Command: /home/biocbuild/R/R/bin/R CMD build --keep-empty-dirs --no-resave-data metabCombiner StartedAt: 2025-11-11 03:00:35 -0000 (Tue, 11 Nov 2025) EndedAt: 2025-11-11 03:01:19 -0000 (Tue, 11 Nov 2025) EllapsedTime: 44.0 seconds RetCode: 0 Status: OK PackageFile: metabCombiner_1.20.0.tar.gz PackageFileSize: 2.535 MiB