Package: metabCombiner Version: 1.20.0 Command: /home/biocbuild/bbs-3.22-bioc/R/bin/R CMD INSTALL metabCombiner StartedAt: 2025-11-13 15:12:31 -0500 (Thu, 13 Nov 2025) EndedAt: 2025-11-13 15:12:49 -0500 (Thu, 13 Nov 2025) EllapsedTime: 17.3 seconds RetCode: 0 Status: OK