Package: metabCombiner Version: 1.18.0 Command: /Library/Frameworks/R.framework/Resources/bin/R CMD build --keep-empty-dirs --no-resave-data metabCombiner StartedAt: 2025-10-06 20:18:41 -0400 (Mon, 06 Oct 2025) EndedAt: 2025-10-06 20:19:58 -0400 (Mon, 06 Oct 2025) EllapsedTime: 77.4 seconds RetCode: 0 Status: OK PackageFile: metabCombiner_1.18.0.tar.gz PackageFileSize: 2.553 MiB