Package: metaSeq Version: 1.50.0 Command: /home/biocbuild/bbs-3.22-bioc/R/bin/R CMD INSTALL metaSeq StartedAt: 2025-11-11 15:17:43 -0500 (Tue, 11 Nov 2025) EndedAt: 2025-11-11 15:17:49 -0500 (Tue, 11 Nov 2025) EllapsedTime: 6.2 seconds RetCode: 0 Status: OK