Package: metaSeq Version: 1.50.0 Command: /Library/Frameworks/R.framework/Resources/bin/R CMD INSTALL metaSeq StartedAt: 2025-11-02 15:07:25 -0500 (Sun, 02 Nov 2025) EndedAt: 2025-11-02 15:07:27 -0500 (Sun, 02 Nov 2025) EllapsedTime: 2.9 seconds RetCode: 0 Status: OK