Package: metaSeq Version: 1.50.0 Command: /Library/Frameworks/R.framework/Resources/bin/R CMD build --keep-empty-dirs --no-resave-data metaSeq StartedAt: 2025-11-02 16:56:15 -0500 (Sun, 02 Nov 2025) EndedAt: 2025-11-02 16:56:22 -0500 (Sun, 02 Nov 2025) EllapsedTime: 7.1 seconds RetCode: 0 Status: OK PackageFile: metaSeq_1.50.0.tar.gz PackageFileSize: 6.198 MiB