Package: metaMS Version: 1.46.0 Command: /home/biocbuild/bbs-3.22-bioc/R/bin/R CMD INSTALL metaMS StartedAt: 2025-11-11 15:47:08 -0500 (Tue, 11 Nov 2025) EndedAt: 2025-11-11 15:47:56 -0500 (Tue, 11 Nov 2025) EllapsedTime: 47.4 seconds RetCode: 0 Status: OK