Package: messina Version: 1.46.0 Command: /home/biocbuild/bbs-3.22-bioc/R/bin/R CMD INSTALL messina StartedAt: 2025-11-13 15:08:11 -0500 (Thu, 13 Nov 2025) EndedAt: 2025-11-13 15:08:59 -0500 (Thu, 13 Nov 2025) EllapsedTime: 48.9 seconds RetCode: 0 Status: OK